BEGIN:VCALENDAR
VERSION:2.0
PRODID:-//Downtown Los Altos - ECPv6.15.20//NONSGML v1.0//EN
CALSCALE:GREGORIAN
METHOD:PUBLISH
X-ORIGINAL-URL:https://downtownlosaltos.org
X-WR-CALDESC:Events for Downtown Los Altos
REFRESH-INTERVAL;VALUE=DURATION:PT1H
X-Robots-Tag:noindex
X-PUBLISHED-TTL:PT1H
BEGIN:VTIMEZONE
TZID:America/Los_Angeles
BEGIN:DAYLIGHT
TZOFFSETFROM:-0800
TZOFFSETTO:-0700
TZNAME:PDT
DTSTART:20250309T100000
END:DAYLIGHT
BEGIN:STANDARD
TZOFFSETFROM:-0700
TZOFFSETTO:-0800
TZNAME:PST
DTSTART:20251102T090000
END:STANDARD
BEGIN:DAYLIGHT
TZOFFSETFROM:-0800
TZOFFSETTO:-0700
TZNAME:PDT
DTSTART:20260308T100000
END:DAYLIGHT
BEGIN:STANDARD
TZOFFSETFROM:-0700
TZOFFSETTO:-0800
TZNAME:PST
DTSTART:20261101T090000
END:STANDARD
BEGIN:DAYLIGHT
TZOFFSETFROM:-0800
TZOFFSETTO:-0700
TZNAME:PDT
DTSTART:20270314T100000
END:DAYLIGHT
BEGIN:STANDARD
TZOFFSETFROM:-0700
TZOFFSETTO:-0800
TZNAME:PST
DTSTART:20271107T090000
END:STANDARD
END:VTIMEZONE
BEGIN:VEVENT
DTSTART;TZID=America/Los_Angeles:20261204T180000
DTEND;TZID=America/Los_Angeles:20261204T200000
DTSTAMP:20260420T121257
CREATED:20170906T233442Z
LAST-MODIFIED:20260130T224028Z
UID:862-1796407200-1796414400@downtownlosaltos.org
SUMMARY:Holiday Tree Celebration
DESCRIPTION:The Los Altos Village Association presents the Holiday Tree Celebration on Friday\, December 4th\, 2026 from 6-8pm in Veterans Community Plaza located at the corner of Main and State Streets in Downtown Los Altos. \nJoin us for a celebration of the holidays with music and performances from local students\, and trolley car rides around Downtown. After the performances\, stick around and celebrate the arrival of Santa Claus\, who plans to be available for pictures until 8pm. Bring your own camera.
URL:https://downtownlosaltos.org/event/holiday-tree-celebration/
LOCATION:Downtown Los Altos\, Main and State Streets\, Los Altos\, CA\, 94022\, United States
CATEGORIES:Featured,First Fridays,Holiday Tree Lighting,LAVA Event
ATTACH;FMTTYPE=image/jpeg:https://downtownlosaltos.org/wp-content/uploads/2018/08/Tree2.jpg
END:VEVENT
BEGIN:VEVENT
DTSTART;TZID=America/Los_Angeles:20261210T160000
DTEND;TZID=America/Los_Angeles:20261210T200000
DTSTAMP:20260420T121257
CREATED:20211202T202747Z
LAST-MODIFIED:20260130T224511Z
UID:2557-1796918400-1796932800@downtownlosaltos.org
SUMMARY:Holiday Market
DESCRIPTION:Get in the spirit of the season at the annual Downtown Los Altos Holiday Market on State Street\, Thursday\, December 10th and again on Thursday\, December 17th from 4-8pm each day. Enjoy live music and visits with Santa as you shop for holiday gifts & stocking stuffers from local vendors at this European-style night market! \n 
URL:https://downtownlosaltos.org/event/holiday-market/
LOCATION:State Street Market\, 170 State Street\, Los Altos\, CA\, 94022\, United States
CATEGORIES:Farmers' Market,Featured,Holiday Market,LAVA Event,LAVA Member Event
ATTACH;FMTTYPE=image/png:https://downtownlosaltos.org/wp-content/uploads/2021/12/holiday-market-snip.png
END:VEVENT
BEGIN:VEVENT
DTSTART;TZID=America/Los_Angeles:20261217T160000
DTEND;TZID=America/Los_Angeles:20261217T200000
DTSTAMP:20260420T121257
CREATED:20241126T003459Z
LAST-MODIFIED:20260130T224310Z
UID:4366-1797523200-1797537600@downtownlosaltos.org
SUMMARY:Holiday Market
DESCRIPTION:Get in the spirit of the season at the final Downtown Los Altos Holiday Market on State Street\, Thursday\, December 17th from 4-8pm. Enjoy live music and visits with Santa as you shop for holiday gifts & stocking stuffers from 50+ local vendors at this European-style night market!
URL:https://downtownlosaltos.org/event/holiday-market-2/
LOCATION:State Street Market\, 170 State Street\, Los Altos\, CA\, 94022\, United States
CATEGORIES:Featured,Holiday Market,LAVA Event,LAVA Member Event
ATTACH;FMTTYPE=image/png:https://downtownlosaltos.org/wp-content/uploads/2021/12/holiday-market-snip.png
END:VEVENT
END:VCALENDAR