BEGIN:VCALENDAR
VERSION:2.0
PRODID:-//Downtown Los Altos - ECPv6.15.20//NONSGML v1.0//EN
CALSCALE:GREGORIAN
METHOD:PUBLISH
X-WR-CALNAME:Downtown Los Altos
X-ORIGINAL-URL:https://downtownlosaltos.org
X-WR-CALDESC:Events for Downtown Los Altos
REFRESH-INTERVAL;VALUE=DURATION:PT1H
X-Robots-Tag:noindex
X-PUBLISHED-TTL:PT1H
BEGIN:VTIMEZONE
TZID:America/Los_Angeles
BEGIN:DAYLIGHT
TZOFFSETFROM:-0800
TZOFFSETTO:-0700
TZNAME:PDT
DTSTART:20220313T100000
END:DAYLIGHT
BEGIN:STANDARD
TZOFFSETFROM:-0700
TZOFFSETTO:-0800
TZNAME:PST
DTSTART:20221106T090000
END:STANDARD
BEGIN:DAYLIGHT
TZOFFSETFROM:-0800
TZOFFSETTO:-0700
TZNAME:PDT
DTSTART:20230312T100000
END:DAYLIGHT
BEGIN:STANDARD
TZOFFSETFROM:-0700
TZOFFSETTO:-0800
TZNAME:PST
DTSTART:20231105T090000
END:STANDARD
BEGIN:DAYLIGHT
TZOFFSETFROM:-0800
TZOFFSETTO:-0700
TZNAME:PDT
DTSTART:20240310T100000
END:DAYLIGHT
BEGIN:STANDARD
TZOFFSETFROM:-0700
TZOFFSETTO:-0800
TZNAME:PST
DTSTART:20241103T090000
END:STANDARD
BEGIN:DAYLIGHT
TZOFFSETFROM:-0800
TZOFFSETTO:-0700
TZNAME:PDT
DTSTART:20250309T100000
END:DAYLIGHT
BEGIN:STANDARD
TZOFFSETFROM:-0700
TZOFFSETTO:-0800
TZNAME:PST
DTSTART:20251102T090000
END:STANDARD
BEGIN:DAYLIGHT
TZOFFSETFROM:-0800
TZOFFSETTO:-0700
TZNAME:PDT
DTSTART:20260308T100000
END:DAYLIGHT
BEGIN:STANDARD
TZOFFSETFROM:-0700
TZOFFSETTO:-0800
TZNAME:PST
DTSTART:20261101T090000
END:STANDARD
END:VTIMEZONE
BEGIN:VEVENT
DTSTART;TZID=America/Los_Angeles:20251214T163000
DTEND;TZID=America/Los_Angeles:20251214T180000
DTSTAMP:20260420T060223
CREATED:20251119T235548Z
LAST-MODIFIED:20251121T013135Z
UID:4853-1765729800-1765735200@downtownlosaltos.org
SUMMARY:Grand Menorah Lighting
DESCRIPTION:Bring your family and friends to the Annual Grand Menorah Lighting\, Sunday\, December 14th at 4:30 PM in Veterans Community Plaza at the corner of Main and State Streets in Downtown Los Altos. Fun and games for all. Presented by Los Altos Chabad. Click here for more information. \nAnd\, on Sunday\, December 7th head to Los Altos Hardware for a menorah making workshop. Details below.
URL:https://downtownlosaltos.org/event/grand-menorah-lighting/
LOCATION:CA
CATEGORIES:Chanukah,LAVA Supported
ATTACH;FMTTYPE=image/jpeg:https://downtownlosaltos.org/wp-content/uploads/2025/11/2025-Menorah-Lighting-promo.jpg
END:VEVENT
BEGIN:VEVENT
DTSTART;TZID=America/Los_Angeles:20251206T140000
DTEND;TZID=America/Los_Angeles:20251206T160000
DTSTAMP:20260420T060223
CREATED:20211202T203233Z
LAST-MODIFIED:20251130T023055Z
UID:2564-1765029600-1765036800@downtownlosaltos.org
SUMMARY:Pictures with Santa
DESCRIPTION:The Los Altos Village Association has made special arrangements for Santa to take time from his busy holiday schedule to come to Downtown Los Altos! Visit Santa and join him for a selfie at Enchante Boutique Hotel on Saturday\, December 6th from 2-4pm.
URL:https://downtownlosaltos.org/event/selfies-with-santa/
LOCATION:Enchante Boutique Hotel\, 1 Main Street\, Los Altos\, CA\, 94022\, United States
CATEGORIES:Featured,LAVA Event
ATTACH;FMTTYPE=image/png:https://downtownlosaltos.org/wp-content/uploads/2021/12/Santa-Square.png
END:VEVENT
BEGIN:VEVENT
DTSTART;TZID=America/Los_Angeles:20251130T180000
DTEND;TZID=America/Los_Angeles:20251130T200000
DTSTAMP:20260420T060223
CREATED:20170907T022029Z
LAST-MODIFIED:20250729T002437Z
UID:877-1764525600-1764532800@downtownlosaltos.org
SUMMARY:Festival of Lights Parade
DESCRIPTION:Date: Sunday\, November 30th\, 2025\nTime: 6:00 p.m.\nPlace: Downtown Los Altos\, California \nhttp://www.losaltosparade.org/
URL:https://downtownlosaltos.org/event/festival-of-lights-parade/
LOCATION:Downtown Los Altos\, Main and State Streets\, Los Altos\, CA\, 94022\, United States
CATEGORIES:Festival of Lights,LAVA Supported
ATTACH;FMTTYPE=image/jpeg:https://downtownlosaltos.org/wp-content/uploads/2017/09/20171126_172432.jpg
END:VEVENT
BEGIN:VEVENT
DTSTART;TZID=America/Los_Angeles:20251114T170000
DTEND;TZID=America/Los_Angeles:20251114T210000
DTSTAMP:20260420T060223
CREATED:20170906T232531Z
LAST-MODIFIED:20260130T223819Z
UID:857-1763139600-1763154000@downtownlosaltos.org
SUMMARY:23rd Annual Holiday Stroll
DESCRIPTION:Join the Los Altos Village Association for the 23rd Annual Holiday Stroll through Downtown Los Altos on Friday\, November 13th\, 2026 from 5-9pm. \nDiscover unique gifts\, enjoy sparkling lights\, strolling carolers\, shopping specials and fun at Downtown shops and restaurants. End or begin your festive evening with dinner at one of our many fine restaurants. \n2026 Holiday Stroll Shops & Restaurants (TBD)\nHoliday Stroll Musicians (TBD)\n \n 
URL:https://downtownlosaltos.org/event/holiday-stroll/
LOCATION:Downtown Los Altos\, Main and State Streets\, Los Altos\, CA\, 94022\, United States
CATEGORIES:Holiday Stroll,LAVA Event
ATTACH;FMTTYPE=image/jpeg:https://downtownlosaltos.org/wp-content/uploads/2017/09/HolidayTree-e1633113747573.jpg
END:VEVENT
BEGIN:VEVENT
DTSTART;TZID=America/Los_Angeles:20250801T080000
DTEND;TZID=America/Los_Angeles:20250810T170000
DTSTAMP:20260420T060223
CREATED:20230613T181335Z
LAST-MODIFIED:20250702T150935Z
UID:3222-1754035200-1754845200@downtownlosaltos.org
SUMMARY:Summer Sale
DESCRIPTION:Ten days of sales (August 1st to 10th) throughout Downtown Los Altos. Come check out the bargains and specials as the businesses of Downtown Los Altos make way for the holidays. \n \n 
URL:https://downtownlosaltos.org/event/summer-sale/
LOCATION:Downtown Los Altos\, Main and State Streets\, Los Altos\, CA\, 94022\, United States
CATEGORIES:Featured,LAVA Event,Sidewalk Sale
ATTACH;FMTTYPE=image/jpeg:https://downtownlosaltos.org/wp-content/uploads/2023/06/SsaleS25IG-scaled.jpg
END:VEVENT
BEGIN:VEVENT
DTSTART;TZID=America/Los_Angeles:20250517T100000
DTEND;TZID=America/Los_Angeles:20250517T110000
DTSTAMP:20260420T060223
CREATED:20220321T235317Z
LAST-MODIFIED:20250304T194400Z
UID:2750-1747476000-1747479600@downtownlosaltos.org
SUMMARY:78th Los Altos Kiwanis Pet Parade
DESCRIPTION:Kiwanis Pet Parade Returns to Downtown Los Altos on Saturday May 17th beginning at 10am.\nA beloved community tradition since 1948\, the Los Altos Kiwanis Pet Parade is a celebration that attracts thousands of people every year to Downtown Los Altos. Traditionally\, this free Los Altos Heritage Event is held annually on Saturday prior to Mother’s Day. Hundreds of kids and their pets — dogs\, cats\, birds\, chickens\, turtles and even worms — participate. Make sure to register your pets ahead of time. Visit www.losaltoskiwanis.org/activities/PetParade for more information. \nFor any questions\, please email info@losaltoskiwanis.org. \n 
URL:https://downtownlosaltos.org/event/los-altos-kiwanis-pet-parade/
LOCATION:Downtown Los Altos\, Main and State Streets\, Los Altos\, CA\, 94022\, United States
CATEGORIES:LAVA Supported,Pet Parade
ATTACH;FMTTYPE=image/jpeg:https://downtownlosaltos.org/wp-content/uploads/2022/03/2016_05_14-002-kiwanis-pet-parade-x3.jpg
END:VEVENT
BEGIN:VEVENT
DTSTART;VALUE=DATE:20241202
DTEND;VALUE=DATE:20241231
DTSTAMP:20260420T060223
CREATED:20231117T003639Z
LAST-MODIFIED:20240202T233056Z
UID:3423-1733097600-1735603199@downtownlosaltos.org
SUMMARY:Trim-a-Tree @LosAltos
DESCRIPTION:A New Los Altos Tradition\nA collaboration of the Los Altos Village Association\, Los Altos Chamber of Commerce and the City of Los Altos\, the Trim-a-Tree @LosAltos program will begin its fifth year of bringing uniquely decorated trees — adopted by Los Altos businesses and residents — to business districts throughout town. \nDecorated trees will be available for viewing December 2nd through 31st. \n  \nThank You to Our Sponsors!
URL:https://downtownlosaltos.org/event/trim-a-tree-losaltos/
LOCATION:Downtown Los Altos\, Main and State Streets\, Los Altos\, CA\, 94022\, United States
CATEGORIES:LAVA Event,LAVA Supported,Trim-a-Tree @LosAltos
ATTACH;FMTTYPE=image/jpeg:https://downtownlosaltos.org/wp-content/uploads/2023/11/TaT-IG.jpg
END:VEVENT
BEGIN:VEVENT
DTSTART;VALUE=DATE:20230812
DTEND;VALUE=DATE:20230814
DTSTAMP:20260420T060223
CREATED:20171209T032919Z
LAST-MODIFIED:20230518T000216Z
UID:1316-1691798400-1691971199@downtownlosaltos.org
SUMMARY:Rotary Fine Art in the Park
DESCRIPTION:Join the Los Altos Rotary Club for Fine Art in the Park\, August 12-13\, 10am to 5:30pm each day. Visit more than 100 artists showcasing beautiful and creative photos\, oil paintings\, watercolors\, sculptures\, textiles\, wearable art\, wood\, metals\, glass\, ceramics\, jewelry\, and more! \nThis free event\, under the beautiful redwoods of Lincoln Park just across Foothill Expressway from Downtown Los Altos\, also features all-day entertainment including jazz and rock music on the stage. You will find crepes\, Chef Chu’s chicken salad\, delicious foods\, ice cream\, and fine wine and craft beer. (You must be at least 21 years old to purchase or taste wine or beer.) \nIt’s a fun day for the entire family!  Mark your calendar for good times and to find the art that touches your heart for the home\, garden or office. And\, like every year\, a portion of your purchase goes toward Rotary’s charitable programs to help those in need\, locally and internationally.
URL:https://downtownlosaltos.org/event/fine-art-in-the-park/
LOCATION:Lincoln Park\, 199 University Avenue\, Los Altos\, CA\, 94022\, United States
CATEGORIES:Fine Art in The Park,LAVA Supported,Los Altos Rotary
ATTACH;FMTTYPE=image/jpeg:https://downtownlosaltos.org/wp-content/uploads/2017/12/2023-FAITP-FB-web-banner-851x360-v2.jpg
END:VEVENT
END:VCALENDAR